BEGIN:VCALENDAR
VERSION:2.0
PRODID:-//Sors à Gland ! - ECPv6.15.20//NONSGML v1.0//EN
CALSCALE:GREGORIAN
METHOD:PUBLISH
X-ORIGINAL-URL:https://sors.gland.ch
X-WR-CALDESC:Évènements pour Sors à Gland !
REFRESH-INTERVAL;VALUE=DURATION:PT1H
X-Robots-Tag:noindex
X-PUBLISHED-TTL:PT1H
BEGIN:VTIMEZONE
TZID:Europe/Zurich
BEGIN:DAYLIGHT
TZOFFSETFROM:+0100
TZOFFSETTO:+0200
TZNAME:CEST
DTSTART:20250330T010000
END:DAYLIGHT
BEGIN:STANDARD
TZOFFSETFROM:+0200
TZOFFSETTO:+0100
TZNAME:CET
DTSTART:20251026T010000
END:STANDARD
BEGIN:DAYLIGHT
TZOFFSETFROM:+0100
TZOFFSETTO:+0200
TZNAME:CEST
DTSTART:20260329T010000
END:DAYLIGHT
BEGIN:STANDARD
TZOFFSETFROM:+0200
TZOFFSETTO:+0100
TZNAME:CET
DTSTART:20261025T010000
END:STANDARD
BEGIN:DAYLIGHT
TZOFFSETFROM:+0100
TZOFFSETTO:+0200
TZNAME:CEST
DTSTART:20270328T010000
END:DAYLIGHT
BEGIN:STANDARD
TZOFFSETFROM:+0200
TZOFFSETTO:+0100
TZNAME:CET
DTSTART:20271031T010000
END:STANDARD
END:VTIMEZONE
BEGIN:VEVENT
DTSTART;TZID=Europe/Zurich:20260424T210000
DTEND;TZID=Europe/Zurich:20260424T223000
DTSTAMP:20260421T054605
CREATED:20260420T071552Z
LAST-MODIFIED:20260420T071552Z
UID:10002689-1777064400-1777069800@sors.gland.ch
SUMMARY:Blind test au Backstage Pub
DESCRIPTION:Inscription gratuite dès 21h00 (au Backstage Pub)\nCoup d’envoi à 21h30\nPar équipe de 4 max.\n2 manches\nLot pour les 3 premières équipes.
URL:https://sors.gland.ch/event/blind-test-au-backstage-pub/
LOCATION:Backstage Pub\, Rue des Tuillières 1\, Gland\, Vaud\, 1196\, Switzerland
CATEGORIES:événement
ATTACH;FMTTYPE=image/jpeg:https://sors.gland.ch/wp-content/uploads/2026/04/MThhNDI1YzJhOTc5ZjY5NDgyNDViMzAwODE1YzgwYWRfZjhmYzZkMWVjMjM5MTRkNjlmNGFmYmM0MTEyOWFlZWMuanBn.jpg
END:VEVENT
END:VCALENDAR